BEGIN:VCALENDAR
VERSION:2.0
PRODID:icalendar-ruby
CALSCALE:GREGORIAN
BEGIN:VEVENT
DTSTAMP:20260421T160053Z
UID:30ad4655-fc6f-4ae2-95a8-46781bc86bde
DTSTART;VALUE=DATE:20260514
DESCRIPTION:Property ID# 606531\, Locatoin: Auction Rooms\, 247 Cameron Roa
 d\, Tauranga. Unless sold prior\, Time: 1:00PM
SUMMARY:Auction for 28B Western Road
END:VEVENT
END:VCALENDAR
