BEGIN:VCALENDAR
VERSION:2.0
PRODID:icalendar-ruby
CALSCALE:GREGORIAN
BEGIN:VEVENT
DTSTAMP:20260421T122112Z
UID:c39add78-5905-4ed5-bd2f-81342406bd49
DTSTART;VALUE=DATE:20250918
DESCRIPTION:Property ID# 596584\, Locatoin: Harcourts Wellington City 57 Vi
 vian Street\, Te Aro\, Wellington\, 6011\, Time: 10:30AM
SUMMARY:Auction for 
END:VEVENT
END:VCALENDAR
