BEGIN:VCALENDAR
VERSION:2.0
PRODID:icalendar-ruby
CALSCALE:GREGORIAN
BEGIN:VEVENT
DTSTAMP:20260421T160108Z
UID:e6fe5cde-c61a-469a-a156-fd9cdb9722b8
DTSTART;VALUE=DATE:20250501
DESCRIPTION:Property ID# 591516\, Locatoin: Auction Rooms\, 247 Cameron Roa
 d\, Tauranga. Unless sold prior\, Time: 1:00PM
SUMMARY:Auction for 
END:VEVENT
END:VCALENDAR
