BEGIN:VCALENDAR
VERSION:2.0
PRODID:icalendar-ruby
CALSCALE:GREGORIAN
BEGIN:VEVENT
DTSTAMP:20260421T160724Z
UID:c39cf208-6a33-4d94-91e4-d236f85a1f90
DTSTART;VALUE=DATE:20241003
DESCRIPTION:Property ID# 580658\, Locatoin: Auction Rooms\, 247 Cameron Roa
 d\, Tauranga. Unless sold prior\, Time: 1:00PM
SUMMARY:Auction for 
END:VEVENT
END:VCALENDAR
