BEGIN:VCALENDAR
VERSION:2.0
PRODID:icalendar-ruby
CALSCALE:GREGORIAN
BEGIN:VEVENT
DTSTAMP:20260423T090102Z
UID:b4de9f03-1735-4c39-b0ed-b668385eb12d
DTSTART;VALUE=DATE:20240216
DESCRIPTION:Property ID# 568882\, Locatoin: Harcourts Wellington City Offic
 e \, Time: 12:00PM
SUMMARY:Auction for 
END:VEVENT
END:VCALENDAR
