BEGIN:VCALENDAR
VERSION:2.0
PRODID:icalendar-ruby
CALSCALE:GREGORIAN
BEGIN:VEVENT
DTSTAMP:20260421T092107Z
UID:6d725b09-36b9-4002-983a-9a029fd959f9
DTSTART;VALUE=DATE:20230315
DESCRIPTION:Property ID# 551969\, Locatoin: Bayleys auction room\, 247 Came
 ron Road\, Tauranga\, Time: 12:00PM
SUMMARY:Auction for 
END:VEVENT
END:VCALENDAR
