BEGIN:VCALENDAR
VERSION:2.0
PRODID:icalendar-ruby
CALSCALE:GREGORIAN
BEGIN:VEVENT
DTSTAMP:20260421T183407Z
UID:dce3f7c3-dd73-4c75-859e-ad4dfb9eda95
DTSTART;VALUE=DATE:20230303
DESCRIPTION:Property ID# 551329\, Locatoin: Harcourts Auction Rooms Welling
 ton\, Time: 12:00PM
SUMMARY:Auction for 
END:VEVENT
END:VCALENDAR
