BEGIN:VCALENDAR
VERSION:2.0
PRODID:icalendar-ruby
CALSCALE:GREGORIAN
BEGIN:VEVENT
DTSTAMP:20260421T121418Z
UID:3ed17cdf-a206-4646-b189-cfa790219877
DTSTART;VALUE=DATE:20220727
DESCRIPTION:Property ID# 539704\, Locatoin: Harcourts Wellington City Offic
 e\, Time: 2:00PM
SUMMARY:Auction for 
END:VEVENT
END:VCALENDAR
