BEGIN:VCALENDAR
VERSION:2.0
PRODID:icalendar-ruby
CALSCALE:GREGORIAN
BEGIN:VEVENT
DTSTAMP:20260421T152526Z
UID:aa84e819-8e0c-4885-b476-22e8c58e1593
DTSTART;VALUE=DATE:20210921
DESCRIPTION:Property ID# 516676\, Locatoin: Harcourts Auction Rooms Welling
 ton\, Time: 12:00PM
SUMMARY:Auction for 
END:VEVENT
END:VCALENDAR
