BEGIN:VCALENDAR
VERSION:2.0
PRODID:icalendar-ruby
CALSCALE:GREGORIAN
BEGIN:VEVENT
DTSTAMP:20260421T183801Z
UID:d86e7a0b-172d-4454-afba-ce290813562b
DTSTART;VALUE=DATE:20210820
DESCRIPTION:Property ID# 514918\, Locatoin: Harcourts Auction Rooms Welling
 ton\, Time: 12:00PM
SUMMARY:Auction for 
END:VEVENT
END:VCALENDAR
