BEGIN:VCALENDAR
VERSION:2.0
PRODID:icalendar-ruby
CALSCALE:GREGORIAN
BEGIN:VEVENT
DTSTAMP:20260421T182825Z
UID:1c6433b4-0bc0-4b51-ae12-d7e1dbe5a0cc
DTSTART;VALUE=DATE:20210811
DESCRIPTION:Property ID# 514164\, Locatoin: Wellington City Office\, 54-56 
 Cambridge Terrace\, Te Aro 6011\, Wellington\, Time: 2:00PM
SUMMARY:Auction for 
END:VEVENT
END:VCALENDAR
