BEGIN:VCALENDAR
VERSION:2.0
PRODID:icalendar-ruby
CALSCALE:GREGORIAN
BEGIN:VEVENT
DTSTAMP:20260421T090907Z
UID:3b96c131-4732-414b-ad2e-af09b58eb061
DTSTART;VALUE=DATE:20210616
DESCRIPTION:Property ID# 511159\, Locatoin: Harcourts Holmwood\, Ground Flo
 or\, 397 - 399 Ilam Road\, Ilam (unless sold prior)\, Time: 10:00AM
SUMMARY:Auction for 
END:VEVENT
END:VCALENDAR
