BEGIN:VCALENDAR
VERSION:2.0
PRODID:icalendar-ruby
CALSCALE:GREGORIAN
BEGIN:VEVENT
DTSTAMP:20260421T152107Z
UID:dd430afc-65fd-4363-b0d2-b01fa1dbac8b
DTSTART;VALUE=DATE:20210610
DESCRIPTION:Property ID# 511143\, Locatoin: Harcourts Wellington City Offic
 e\, 54-56 Cambridge Terrace (not selling prior)\, Time: 2:00PM
SUMMARY:Auction for 
END:VEVENT
END:VCALENDAR
