BEGIN:VCALENDAR
VERSION:2.0
PRODID:icalendar-ruby
CALSCALE:GREGORIAN
BEGIN:VEVENT
DTSTAMP:20260421T120430Z
UID:e3983c90-80f8-4fe1-90e6-01806f74f286
DTSTART;VALUE=DATE:20210429
DESCRIPTION:Property ID# 506025\, Locatoin: Harcourts Wellington City Offic
 e\, 54-56 Cambridge Terrace (not selling prior)\, Time: 1:00PM
SUMMARY:Auction for 
END:VEVENT
END:VCALENDAR
