BEGIN:VCALENDAR
VERSION:2.0
PRODID:icalendar-ruby
CALSCALE:GREGORIAN
BEGIN:VEVENT
DTSTAMP:20260421T183321Z
UID:a8c3ef6d-a62d-4163-9731-96d52cb4b1d9
DTSTART;VALUE=DATE:20201127
DESCRIPTION:Property ID# 494963\, Locatoin: Harcourts Wellington City Offic
 e\, 54-56 Cambridge Terrace\, Wellington (not selling prior)\, Time: 12:00
 PM
SUMMARY:Auction for 
END:VEVENT
END:VCALENDAR
