BEGIN:VCALENDAR
VERSION:2.0
PRODID:icalendar-ruby
CALSCALE:GREGORIAN
BEGIN:VEVENT
DTSTAMP:20260421T121321Z
UID:8f371d65-9a80-432d-aad2-375c588d88ce
DTSTART;VALUE=DATE:20201022
DESCRIPTION:Property ID# 491377\, Locatoin: Harcourts Wellington City Offic
 e\, 54-56 Cambridge Terrace\, Wellington (not selling prior)\, Time: 5:00P
 M
SUMMARY:Auction for 
END:VEVENT
END:VCALENDAR
