BEGIN:VCALENDAR
VERSION:2.0
PRODID:icalendar-ruby
CALSCALE:GREGORIAN
BEGIN:VEVENT
DTSTAMP:20260421T152354Z
UID:970c4f69-a968-47ac-aef7-1b725665ec4a
DTSTART;VALUE=DATE:20201029
DESCRIPTION:Property ID# 491375\, Locatoin: Harcourts Wellington City Offic
 e\, 54-56 Cambridge Terrace\, Wellington (unless sold prior)\, Time: 2:00P
 M
SUMMARY:Auction for 
END:VEVENT
END:VCALENDAR
