BEGIN:VCALENDAR
VERSION:2.0
PRODID:icalendar-ruby
CALSCALE:GREGORIAN
BEGIN:VEVENT
DTSTAMP:20260421T091308Z
UID:9001f241-505c-410a-94cc-e4080be71526
DTSTART;VALUE=DATE:20200223
DESCRIPTION:Property ID# 472150\, Time: 1:00PM
SUMMARY:Auction for 
END:VEVENT
END:VCALENDAR
