BEGIN:VCALENDAR
VERSION:2.0
PRODID:icalendar-ruby
CALSCALE:GREGORIAN
BEGIN:VEVENT
DTSTAMP:20260421T151917Z
UID:02ba3c8a-daf9-44c6-89f5-fae9005cdf39
DTSTART;VALUE=DATE:20191126
DESCRIPTION:Property ID# 467009\, Locatoin: Harcourts Wellington City Offic
 e\, 54-56 Cambridge Terrace\, Wellington\, Time: 3:30PM
SUMMARY:Auction for 
END:VEVENT
END:VCALENDAR
