BEGIN:VCALENDAR
VERSION:2.0
PRODID:icalendar-ruby
CALSCALE:GREGORIAN
BEGIN:VEVENT
DTSTAMP:20260421T183541Z
UID:ae7d6034-bd09-4390-a4ed-33781cbfacde
DTSTART;VALUE=DATE:20190913
DESCRIPTION:Property ID# 460548\, Locatoin: Harcourts Auction Rooms 54-56 C
 ambridge Terrace\, Te Aro\, Time: 12:00PM
SUMMARY:Auction for 
END:VEVENT
END:VCALENDAR
