BEGIN:VCALENDAR
VERSION:2.0
PRODID:icalendar-ruby
CALSCALE:GREGORIAN
BEGIN:VEVENT
DTSTAMP:20260421T152106Z
UID:e24d5c3c-43c4-4558-91c8-43bc709f8a7d
DTSTART;VALUE=DATE:20191108
DESCRIPTION:Property ID# 459601\, Locatoin: Harcourts Team Wellington Ltd\,
  Level 1\, 54-56 Cambridge Terrace\, Te Aro\, Wellington\, Time: 12:00PM
SUMMARY:Auction for 
END:VEVENT
END:VCALENDAR
